BEGIN:VCALENDAR
VERSION:2.0
PRODID:-//Rangeview HOA - ECPv6.10.0//NONSGML v1.0//EN
CALSCALE:GREGORIAN
METHOD:PUBLISH
X-ORIGINAL-URL:https://rangeviewhoa.thedev.ca
X-WR-CALDESC:Events for Rangeview HOA
REFRESH-INTERVAL;VALUE=DURATION:PT1H
X-Robots-Tag:noindex
X-PUBLISHED-TTL:PT1H
BEGIN:VTIMEZONE
TZID:America/Edmonton
BEGIN:DAYLIGHT
TZOFFSETFROM:-0700
TZOFFSETTO:-0600
TZNAME:MDT
DTSTART:20250309T090000
END:DAYLIGHT
BEGIN:STANDARD
TZOFFSETFROM:-0600
TZOFFSETTO:-0700
TZNAME:MST
DTSTART:20251102T080000
END:STANDARD
END:VTIMEZONE
BEGIN:VEVENT
DTSTART;TZID=America/Edmonton:20250612T000000
DTEND;TZID=America/Edmonton:20250619T235959
DTSTAMP:20260424T122843
CREATED:20250106T204139Z
LAST-MODIFIED:20250106T204139Z
UID:10000721-1749686400-1750377599@rangeviewhoa.thedev.ca
SUMMARY:Transplanting Pumpkins Outdoors
DESCRIPTION:Pumpkins are  sensitive to the cold and wind\, it is best to plant them outdoors when the weather is fair.  Between June 12th – June 19th is the optimal time to prevent cold and wind damage. \nAlways go by the weather\, if the weather is poor during this time postpone planting or if the weather is fair before these dates plant early. \nPlants that have been properly hardened off are less susceptible to cold and wind damage. 
URL:https://rangeviewhoa.thedev.ca/event-details-registration/transplanting-pumpkins-outdoors/
CATEGORIES:Planting Calender
ATTACH;FMTTYPE=image/png:https://rangeviewhoa.thedev.ca/wp-content/uploads/2025/01/Pumpkin.png
END:VEVENT
BEGIN:VEVENT
DTSTART;TZID=America/Edmonton:20250508T000000
DTEND;TZID=America/Edmonton:20250522T235959
DTSTAMP:20260424T122843
CREATED:20250106T203728Z
LAST-MODIFIED:20250106T203728Z
UID:10000718-1746662400-1747958399@rangeviewhoa.thedev.ca
SUMMARY:Sow Pumpkin Indoors
DESCRIPTION:The best time to start pumpkins indoors is May 8th – May 22nd . Pumpkins can grow very large\, starting them later than other plants can save space in your home ! \nIf you’re looking for additional information on how to start seeds indoors please refer to our tutorial or reach out to us at info@rangeviewhoa.thedev.ca \nTutorial Link
URL:https://rangeviewhoa.thedev.ca/event-details-registration/sow-pumpkin-indoors/
CATEGORIES:Planting Calender
ATTACH;FMTTYPE=image/png:https://rangeviewhoa.thedev.ca/wp-content/uploads/2025/01/Pumpkin.png
END:VEVENT
END:VCALENDAR