BEGIN:VCALENDAR
VERSION:2.0
PRODID:-//Rangeview HOA - ECPv6.10.0//NONSGML v1.0//EN
CALSCALE:GREGORIAN
METHOD:PUBLISH
X-ORIGINAL-URL:https://rangeviewhoa.thedev.ca
X-WR-CALDESC:Events for Rangeview HOA
REFRESH-INTERVAL;VALUE=DURATION:PT1H
X-Robots-Tag:noindex
X-PUBLISHED-TTL:PT1H
BEGIN:VTIMEZONE
TZID:America/Edmonton
BEGIN:DAYLIGHT
TZOFFSETFROM:-0700
TZOFFSETTO:-0600
TZNAME:MDT
DTSTART:20250309T090000
END:DAYLIGHT
BEGIN:STANDARD
TZOFFSETFROM:-0600
TZOFFSETTO:-0700
TZNAME:MST
DTSTART:20251102T080000
END:STANDARD
END:VTIMEZONE
BEGIN:VEVENT
DTSTART;TZID=America/Edmonton:20250508T000000
DTEND;TZID=America/Edmonton:20250520T235959
DTSTAMP:20260424T164347
CREATED:20250102T230418Z
LAST-MODIFIED:20250102T230418Z
UID:10000649-1746662400-1747785599@rangeviewhoa.thedev.ca
SUMMARY:Transplanting Leeks Outdoors
DESCRIPTION:Leek is mildly resistant to the cold and wind and can be planted when the weather is still cool.   Between May 8th – May 20th is the perfect time to plant them outdoors. \nAlways go by the weather\, if the weather is poor during this time postpone planting or if the weather is fair before these dates plant early. \nPlants that have been properly hardened off are less susceptible to cold and wind damage. 
URL:https://rangeviewhoa.thedev.ca/event-details-registration/transplanting-leeks-outdoors/
CATEGORIES:Planting Calender
ATTACH;FMTTYPE=image/png:https://rangeviewhoa.thedev.ca/wp-content/uploads/2024/12/Leek-Plant.png
END:VEVENT
BEGIN:VEVENT
DTSTART;TZID=America/Edmonton:20250320T000000
DTEND;TZID=America/Edmonton:20250403T235959
DTSTAMP:20260424T164347
CREATED:20250102T230418Z
LAST-MODIFIED:20250102T230956Z
UID:10000641-1742428800-1743724799@rangeviewhoa.thedev.ca
SUMMARY:Sow Leeks Indoors
DESCRIPTION:The best time to start leek plants indoors is March 20th – April 3rd. Leeks can take up to 120 days to grow to maturity\, so it is important to start them early! \nIf you’re looking for additional information on how to start seeds indoors please refer to our tutorial or reach out to use at info@rangeviewhoa.thedev.ca \nTutorial Link
URL:https://rangeviewhoa.thedev.ca/event-details-registration/indoor-sow-leeks/
CATEGORIES:Planting Calender
ATTACH;FMTTYPE=image/png:https://rangeviewhoa.thedev.ca/wp-content/uploads/2024/12/Leek-Plant.png
END:VEVENT
END:VCALENDAR