BEGIN:VCALENDAR
VERSION:2.0
PRODID:-//Rangeview HOA - ECPv6.10.0//NONSGML v1.0//EN
CALSCALE:GREGORIAN
METHOD:PUBLISH
X-WR-CALNAME:Rangeview HOA
X-ORIGINAL-URL:https://rangeviewhoa.thedev.ca
X-WR-CALDESC:Events for Rangeview HOA
REFRESH-INTERVAL;VALUE=DURATION:PT1H
X-Robots-Tag:noindex
X-PUBLISHED-TTL:PT1H
BEGIN:VTIMEZONE
TZID:America/Edmonton
BEGIN:DAYLIGHT
TZOFFSETFROM:-0700
TZOFFSETTO:-0600
TZNAME:MDT
DTSTART:20250309T090000
END:DAYLIGHT
BEGIN:STANDARD
TZOFFSETFROM:-0600
TZOFFSETTO:-0700
TZNAME:MST
DTSTART:20251102T080000
END:STANDARD
END:VTIMEZONE
BEGIN:VEVENT
DTSTART;TZID=America/Edmonton:20250320T000000
DTEND;TZID=America/Edmonton:20250403T235959
DTSTAMP:20260424T161357
CREATED:20250102T230418Z
LAST-MODIFIED:20250102T230418Z
UID:10000640-1742428800-1743724799@rangeviewhoa.thedev.ca
SUMMARY:Sow Hot Peppers Indoors
DESCRIPTION:The best time to start hot pepper plants indoors is March 20th – April 3rd\, this gives them ample time to get established before being moved outside! \nIf you’re looking for additional information on how to start seeds indoors please refer to our tutorial or reach out to use at info@rangeviewhoa.thedev.ca \nTutorial Link
URL:https://rangeviewhoa.thedev.ca/event-details-registration/sow-hot-peppers-indoors/
CATEGORIES:Planting Calender
ATTACH;FMTTYPE=image/png:https://rangeviewhoa.thedev.ca/wp-content/uploads/2024/12/Jalapeno-Plant.png
END:VEVENT
END:VCALENDAR