BEGIN:VCALENDAR
VERSION:2.0
PRODID:-//Rangeview HOA - ECPv6.10.0//NONSGML v1.0//EN
CALSCALE:GREGORIAN
METHOD:PUBLISH
X-ORIGINAL-URL:https://rangeviewhoa.thedev.ca
X-WR-CALDESC:Events for Rangeview HOA
REFRESH-INTERVAL;VALUE=DURATION:PT1H
X-Robots-Tag:noindex
X-PUBLISHED-TTL:PT1H
BEGIN:VTIMEZONE
TZID:America/Edmonton
BEGIN:DAYLIGHT
TZOFFSETFROM:-0700
TZOFFSETTO:-0600
TZNAME:MDT
DTSTART:20250309T090000
END:DAYLIGHT
BEGIN:STANDARD
TZOFFSETFROM:-0600
TZOFFSETTO:-0700
TZNAME:MST
DTSTART:20251102T080000
END:STANDARD
END:VTIMEZONE
BEGIN:VEVENT
DTSTART;TZID=America/Edmonton:20250508T000000
DTEND;TZID=America/Edmonton:20250515T235959
DTSTAMP:20260424T161408
CREATED:20250106T201012Z
LAST-MODIFIED:20250106T201012Z
UID:10000704-1746662400-1747353599@rangeviewhoa.thedev.ca
SUMMARY:Sow Chives Outdoors
DESCRIPTION:Chive seeds can be sown outdoors from May 8th – May 15th\,  sowing seeds outdoors saves space in your home and ensures an end of season harvest. \nOutdoor seeds can be sown in any spring conditions. Always make sure to put a label where you plant them to avoid disturbing the soil or stepping on new sprouts!
URL:https://rangeviewhoa.thedev.ca/event-details-registration/sow-chives-outdoors/
CATEGORIES:Planting Calender
ATTACH;FMTTYPE=image/png:https://rangeviewhoa.thedev.ca/wp-content/uploads/2025/01/Chives.png
END:VEVENT
BEGIN:VEVENT
DTSTART;TZID=America/Edmonton:20250508T000000
DTEND;TZID=America/Edmonton:20250515T235959
DTSTAMP:20260424T161408
CREATED:20250106T184458Z
LAST-MODIFIED:20250106T184458Z
UID:10000686-1746662400-1747353599@rangeviewhoa.thedev.ca
SUMMARY:Transplant Chives Outdoors
DESCRIPTION:Chives is less sensitive to the cold and wind\, it is best to plant them outdoors when the weather is ok.  Between May 8th – May 15th is the optimal time to prevent cold and wind damage. \nAlways go by the weather\, if the weather is poor during this time postpone planting or if the weather is fair before these dates plant early. \nPlants that have been properly hardened off are less susceptible to cold and wind damage. 
URL:https://rangeviewhoa.thedev.ca/event-details-registration/transplant-chives-outdoors/
CATEGORIES:Planting Calender
ATTACH;FMTTYPE=image/png:https://rangeviewhoa.thedev.ca/wp-content/uploads/2025/01/Chives.png
END:VEVENT
BEGIN:VEVENT
DTSTART;TZID=America/Edmonton:20250403T000000
DTEND;TZID=America/Edmonton:20250417T235959
DTSTAMP:20260424T161408
CREATED:20250106T162854Z
LAST-MODIFIED:20250106T162854Z
UID:10000666-1743638400-1744934399@rangeviewhoa.thedev.ca
SUMMARY:Sow Chive Indoors
DESCRIPTION:The best time to start chives indoors is April 3rd – April 17th. Chives grow and establish fast\, sowing them early and indoors ensures an early harvest ! \nIf you’re looking for additional information on how to start seeds indoors please refer to our tutorial or reach out to us at info@rangeviewhoa.thedev.ca \nTutorial Link
URL:https://rangeviewhoa.thedev.ca/event-details-registration/sow-chive-indoors/
CATEGORIES:Planting Calender
ATTACH;FMTTYPE=image/png:https://rangeviewhoa.thedev.ca/wp-content/uploads/2025/01/Chives.png
END:VEVENT
END:VCALENDAR