BEGIN:VCALENDAR
VERSION:2.0
PRODID:-//Rangeview HOA - ECPv6.10.0//NONSGML v1.0//EN
CALSCALE:GREGORIAN
METHOD:PUBLISH
X-WR-CALNAME:Rangeview HOA
X-ORIGINAL-URL:https://rangeviewhoa.thedev.ca
X-WR-CALDESC:Events for Rangeview HOA
REFRESH-INTERVAL;VALUE=DURATION:PT1H
X-Robots-Tag:noindex
X-PUBLISHED-TTL:PT1H
BEGIN:VTIMEZONE
TZID:America/Edmonton
BEGIN:DAYLIGHT
TZOFFSETFROM:-0700
TZOFFSETTO:-0600
TZNAME:MDT
DTSTART:20250309T090000
END:DAYLIGHT
BEGIN:STANDARD
TZOFFSETFROM:-0600
TZOFFSETTO:-0700
TZNAME:MST
DTSTART:20251102T080000
END:STANDARD
END:VTIMEZONE
BEGIN:VEVENT
DTSTART;TZID=America/Edmonton:20250612T000000
DTEND;TZID=America/Edmonton:20250626T235959
DTSTAMP:20260424T115057
CREATED:20250106T191049Z
LAST-MODIFIED:20250106T191049Z
UID:10000699-1749686400-1750982399@rangeviewhoa.thedev.ca
SUMMARY:Sow Basil Outdoors
DESCRIPTION:Basil seeds can be sown outdoors from June 12th – June 26th\,  sowing seeds outdoors saves space in your home and ensures an end of season harvest. \nOutdoor seeds can be sown in any spring conditions. Always make sure to put a label where you plant them to avoid disturbing the soil or stepping on new sprouts!
URL:https://rangeviewhoa.thedev.ca/event-details-registration/sow-basil-outdoors/
CATEGORIES:Planting Calender
ATTACH;FMTTYPE=image/png:https://rangeviewhoa.thedev.ca/wp-content/uploads/2025/01/Basil.png
END:VEVENT
BEGIN:VEVENT
DTSTART;TZID=America/Edmonton:20250612T000000
DTEND;TZID=America/Edmonton:20250626T235959
DTSTAMP:20260424T115057
CREATED:20250106T183055Z
LAST-MODIFIED:20250106T183055Z
UID:10000679-1749686400-1750982399@rangeviewhoa.thedev.ca
SUMMARY:Transplanting Basil Outdoors
DESCRIPTION:Celery is very sensitive to the cold and wind\, it is best to plant them outdoors when the weather is good.  Between June 12th – June 26th is the optimal time to prevent cold and wind damage. \nAlways go by the weather\, if the weather is poor during this time postpone planting or if the weather is fair before these dates plant early. \nPlants that have been properly hardened off are less susceptible to cold and wind damage. 
URL:https://rangeviewhoa.thedev.ca/event-details-registration/transplanting-basil-outdoors/
CATEGORIES:Planting Calender
ATTACH;FMTTYPE=image/png:https://rangeviewhoa.thedev.ca/wp-content/uploads/2025/01/Basil.png
END:VEVENT
BEGIN:VEVENT
DTSTART;TZID=America/Edmonton:20250417T000000
DTEND;TZID=America/Edmonton:20250501T235959
DTSTAMP:20260424T115057
CREATED:20250106T154701Z
LAST-MODIFIED:20250106T182836Z
UID:10000661-1744848000-1746143999@rangeviewhoa.thedev.ca
SUMMARY:Sow Basil Indoors
DESCRIPTION:The best time to start basil indoors is April 17th – May 1st\, this gives them just enough time to get established before they head outside! \nIf you’re looking for additional information on how to start seeds indoors please refer to our tutorial or reach out to use at info@rangeviewhoa.thedev.ca \nTutorial Link
URL:https://rangeviewhoa.thedev.ca/event-details-registration/sow-basil-indoors/
CATEGORIES:Planting Calender
ATTACH;FMTTYPE=image/png:https://rangeviewhoa.thedev.ca/wp-content/uploads/2025/01/Basil.png
END:VEVENT
END:VCALENDAR