BEGIN:VCALENDAR
VERSION:2.0
PRODID:-//Rangeview HOA - ECPv6.10.0//NONSGML v1.0//EN
CALSCALE:GREGORIAN
METHOD:PUBLISH
X-WR-CALNAME:Rangeview HOA
X-ORIGINAL-URL:https://rangeviewhoa.thedev.ca
X-WR-CALDESC:Events for Rangeview HOA
REFRESH-INTERVAL;VALUE=DURATION:PT1H
X-Robots-Tag:noindex
X-PUBLISHED-TTL:PT1H
BEGIN:VTIMEZONE
TZID:America/Edmonton
BEGIN:DAYLIGHT
TZOFFSETFROM:-0700
TZOFFSETTO:-0600
TZNAME:MDT
DTSTART:20250309T090000
END:DAYLIGHT
BEGIN:STANDARD
TZOFFSETFROM:-0600
TZOFFSETTO:-0700
TZNAME:MST
DTSTART:20251102T080000
END:STANDARD
END:VTIMEZONE
BEGIN:VEVENT
DTSTART;TZID=America/Edmonton:20250501T000000
DTEND;TZID=America/Edmonton:20250508T235959
DTSTAMP:20260424T175118
CREATED:20250106T190926Z
LAST-MODIFIED:20250106T190926Z
UID:10000698-1746057600-1746748799@rangeviewhoa.thedev.ca
SUMMARY:Sow Arugula Outdoors
DESCRIPTION:Arugula Seeds can be sown outdoors from May 1st – May 8th\,  sowing seeds outdoors saves space in your home and ensures an end of season harvest. \nOutdoor seeds can be sown in any spring conditions. Always make sure to put a label where you plant them to avoid disturbing the soil or stepping on new sprouts!
URL:https://rangeviewhoa.thedev.ca/event-details-registration/sow-arugula-outdoors/
CATEGORIES:Planting Calender
ATTACH;FMTTYPE=image/png:https://rangeviewhoa.thedev.ca/wp-content/uploads/2025/01/Arugula.png
END:VEVENT
BEGIN:VEVENT
DTSTART;TZID=America/Edmonton:20250403T000000
DTEND;TZID=America/Edmonton:20250417T235959
DTSTAMP:20260424T175118
CREATED:20250106T154417Z
LAST-MODIFIED:20250106T182900Z
UID:10000660-1743638400-1744934399@rangeviewhoa.thedev.ca
SUMMARY:Sow Arugula Indoors
DESCRIPTION:The best time to start hot pepper plants indoors is April 3rd  – April 17th. Arugula does not need much time indoors before it can head outside! \nIf you’re looking for additional information on how to start seeds indoors please refer to our tutorial or reach out to use at info@rangeviewhoa.thedev.ca \nTutorial Link
URL:https://rangeviewhoa.thedev.ca/event-details-registration/sow-arugula-indoors/
CATEGORIES:Planting Calender
ATTACH;FMTTYPE=image/png:https://rangeviewhoa.thedev.ca/wp-content/uploads/2025/01/Arugula.png
END:VEVENT
END:VCALENDAR