BEGIN:VCALENDAR
VERSION:2.0
PRODID:-//Rangeview HOA - ECPv6.10.0//NONSGML v1.0//EN
CALSCALE:GREGORIAN
METHOD:PUBLISH
X-WR-CALNAME:Rangeview HOA
X-ORIGINAL-URL:https://rangeviewhoa.thedev.ca
X-WR-CALDESC:Events for Rangeview HOA
REFRESH-INTERVAL;VALUE=DURATION:PT1H
X-Robots-Tag:noindex
X-PUBLISHED-TTL:PT1H
BEGIN:VTIMEZONE
TZID:America/Edmonton
BEGIN:DAYLIGHT
TZOFFSETFROM:-0700
TZOFFSETTO:-0600
TZNAME:MDT
DTSTART:20250309T090000
END:DAYLIGHT
BEGIN:STANDARD
TZOFFSETFROM:-0600
TZOFFSETTO:-0700
TZNAME:MST
DTSTART:20251102T080000
END:STANDARD
END:VTIMEZONE
BEGIN:VEVENT
DTSTART;TZID=America/Edmonton:20250612T000000
DTEND;TZID=America/Edmonton:20250619T235959
DTSTAMP:20260424T091854
CREATED:20250106T191152Z
LAST-MODIFIED:20250106T191152Z
UID:10000700-1749686400-1750377599@rangeviewhoa.thedev.ca
SUMMARY:Sow Bok Choy Outdoors
DESCRIPTION:Bok choy seeds can be sown outdoors from June 12th – June 19th\,  sowing seeds outdoors saves space in your home and ensures an end of season harvest. \nOutdoor seeds can be sown in any spring conditions. Always make sure to put a label where you plant them to avoid disturbing the soil or stepping on new sprouts!
URL:https://rangeviewhoa.thedev.ca/event-details-registration/sow-bok-choy-outdoors/
CATEGORIES:Planting Calender
ATTACH;FMTTYPE=image/png:https://rangeviewhoa.thedev.ca/wp-content/uploads/2025/01/Bok-Choy.png
END:VEVENT
BEGIN:VEVENT
DTSTART;TZID=America/Edmonton:20250612T000000
DTEND;TZID=America/Edmonton:20250619T235959
DTSTAMP:20260424T091854
CREATED:20250106T190240Z
LAST-MODIFIED:20250106T190240Z
UID:10000697-1749686400-1750377599@rangeviewhoa.thedev.ca
SUMMARY:Transplanting Tomatoes Outdoors
DESCRIPTION:Tomatoes are sensitive to the cold and wind\, it is best to plant them outdoors when the weather is fair.  Between June 12th – June 19th is the optimal time to prevent cold and wind damage. \nAlways go by the weather\, if the weather is poor during this time postpone planting or if the weather is fair before these dates plant early. \nPlants that have been properly hardened off are less susceptible to cold and wind damage. 
URL:https://rangeviewhoa.thedev.ca/event-details-registration/transplanting-tomatoes-outdoors/
CATEGORIES:Planting Calender
ATTACH;FMTTYPE=image/png:https://rangeviewhoa.thedev.ca/wp-content/uploads/2025/01/Tomato.png
END:VEVENT
BEGIN:VEVENT
DTSTART;TZID=America/Edmonton:20250612T000000
DTEND;TZID=America/Edmonton:20250619T235959
DTSTAMP:20260424T091854
CREATED:20250106T183219Z
LAST-MODIFIED:20250106T183541Z
UID:10000680-1749686400-1750377599@rangeviewhoa.thedev.ca
SUMMARY:Transplant Bok Choy Outdoors
DESCRIPTION:Bok Choy is mildly sensitive to the cold and wind\, it is best to plant them outdoors when the weather is good.  Between June 12th – June 19th is the optimal time to prevent cold and wind damage. \nAlways go by the weather\, if the weather is poor during this time postpone planting or if the weather is fair before these dates plant early. \nPlants that have been properly hardened off are less susceptible to cold and wind damage. 
URL:https://rangeviewhoa.thedev.ca/event-details-registration/transplanting-bok-choy-outdoors/
CATEGORIES:Planting Calender
ATTACH;FMTTYPE=image/png:https://rangeviewhoa.thedev.ca/wp-content/uploads/2025/01/Bok-Choy.png
END:VEVENT
BEGIN:VEVENT
DTSTART;TZID=America/Edmonton:20250612T000000
DTEND;TZID=America/Edmonton:20250619T235959
DTSTAMP:20260424T091854
CREATED:20250102T230417Z
LAST-MODIFIED:20250102T230417Z
UID:10000652-1749686400-1750377599@rangeviewhoa.thedev.ca
SUMMARY:Transplanting Rosemary Outdoors
DESCRIPTION:Rosemary is moderately sensitive to the cold and wind\, it is best to plant them outdoors when the weather is fair.  Between June 12th – June 19th is the optimal time to prevent cold and wind damage. \nAlways go by the weather\, if the weather is poor during this time postpone planting or if the weather is fair before these dates plant early. \nPlants that have been properly hardened off are less susceptible to cold and wind damage. 
URL:https://rangeviewhoa.thedev.ca/event-details-registration/transplanting-rosemary-outdoors/
CATEGORIES:Planting Calender
ATTACH;FMTTYPE=image/png:https://rangeviewhoa.thedev.ca/wp-content/uploads/2024/12/Rosemary-Plant.png
END:VEVENT
BEGIN:VEVENT
DTSTART;TZID=America/Edmonton:20250612T000000
DTEND;TZID=America/Edmonton:20250619T235959
DTSTAMP:20260424T091854
CREATED:20250102T230417Z
LAST-MODIFIED:20250102T231133Z
UID:10000648-1749686400-1750377599@rangeviewhoa.thedev.ca
SUMMARY:Transplant Hot Peppers Outdoors
DESCRIPTION:Hot peppers are moderately sensitive to the cold and wind\, it is best to plant them outdoors when the weather is fair.  Between June 12th – June 19th is the optimal time to prevent cold and wind damage. \nAlways go by the weather\, if the weather is poor during this time postpone planting or if the weather is fair before these dates plant early. \nPlants that have been properly hardened off are less susceptible to cold and wind damage. 
URL:https://rangeviewhoa.thedev.ca/event-details-registration/transplant-hot-peppers-outdoors/
CATEGORIES:Planting Calender
ATTACH;FMTTYPE=image/png:https://rangeviewhoa.thedev.ca/wp-content/uploads/2024/12/Jalapeno-Plant.png
END:VEVENT
BEGIN:VEVENT
DTSTART;TZID=America/Edmonton:20250612T000000
DTEND;TZID=America/Edmonton:20250626T235959
DTSTAMP:20260424T091854
CREATED:20250106T214410Z
LAST-MODIFIED:20250106T215232Z
UID:10000733-1749686400-1750982399@rangeviewhoa.thedev.ca
SUMMARY:Sow Parsnip Outdoors
DESCRIPTION:Parsnip seeds can be sown outdoors from June 12th – June 26th\,  sowing seeds outdoors saves space in your home and ensures an end of season harvest. \nOutdoor seeds can be sown in any spring conditions. Always make sure to put a label where you plant them to avoid disturbing the soil or stepping on new sprouts!
URL:https://rangeviewhoa.thedev.ca/event-details-registration/sow-parsnip-outdoors/
CATEGORIES:Planting Calender
ATTACH;FMTTYPE=image/png:https://rangeviewhoa.thedev.ca/wp-content/uploads/2025/01/Parsnip.png
END:VEVENT
BEGIN:VEVENT
DTSTART;TZID=America/Edmonton:20250612T000000
DTEND;TZID=America/Edmonton:20250619T235959
DTSTAMP:20260424T091854
CREATED:20250106T185120Z
LAST-MODIFIED:20250106T185120Z
UID:10000688-1749686400-1750377599@rangeviewhoa.thedev.ca
SUMMARY:Transplanting Eggplant Outdoors
DESCRIPTION:Eggplant is  sensitive to the cold and wind\, it is best to plant them outdoors when the weather is good.  Between June 12th – June 19th is the optimal time to prevent cold and wind damage. \nAlways go by the weather\, if the weather is poor during this time postpone planting or if the weather is fair before these dates plant early. \nPlants that have been properly hardened off are less susceptible to cold and wind damage. 
URL:https://rangeviewhoa.thedev.ca/event-details-registration/transplanting-eggplant-outdoors/
CATEGORIES:Planting Calender
ATTACH;FMTTYPE=image/png:https://rangeviewhoa.thedev.ca/wp-content/uploads/2025/01/Eggplant.png
END:VEVENT
BEGIN:VEVENT
DTSTART;TZID=America/Edmonton:20250612T000000
DTEND;TZID=America/Edmonton:20250619T235959
DTSTAMP:20260424T091854
CREATED:20250102T230417Z
LAST-MODIFIED:20250102T230417Z
UID:10000646-1749686400-1750377599@rangeviewhoa.thedev.ca
SUMMARY:Transplant Celery Outdoors
DESCRIPTION:Celery is mildly sensitive to the cold and wind\, it is best to plant them outdoors when the weather is fair.  Between June 12th – June 19th is the optimal time to prevent cold and wind damage. \nAlways go by the weather\, if the weather is poor during this time postpone planting or if the weather is fair before these dates plant early. \nPlants that have been properly hardened off are less susceptible to cold and wind damage. 
URL:https://rangeviewhoa.thedev.ca/event-details-registration/transplant-celery-outdoors/
CATEGORIES:Planting Calender
ATTACH;FMTTYPE=image/png:https://rangeviewhoa.thedev.ca/wp-content/uploads/2024/12/Celery-Plant.png
END:VEVENT
BEGIN:VEVENT
DTSTART;TZID=America/Edmonton:20250612T000000
DTEND;TZID=America/Edmonton:20250619T235959
DTSTAMP:20260424T091854
CREATED:20250102T230417Z
LAST-MODIFIED:20250102T230417Z
UID:10000647-1749686400-1750377599@rangeviewhoa.thedev.ca
SUMMARY:Transplant Bell Peppers Outdoors
DESCRIPTION:Bell peppers are moderately sensitive to the cold and wind\, it is best to plant them outdoors when the weather is fair.  Between June 12th – June 19th is the optimal time to prevent cold and wind damage. \nAlways go by the weather\, if the weather is poor during this time postpone planting or if the weather is fair before these dates plant early. \nPlants that have been properly hardened off are less susceptible to cold and wind damage. 
URL:https://rangeviewhoa.thedev.ca/event-details-registration/transplant-bell-peppers-outdoors/
CATEGORIES:Planting Calender
ATTACH;FMTTYPE=image/png:https://rangeviewhoa.thedev.ca/wp-content/uploads/2024/12/Pepper-Plant-1.png
END:VEVENT
BEGIN:VEVENT
DTSTART;TZID=America/Edmonton:20250605T000000
DTEND;TZID=America/Edmonton:20250626T235959
DTSTAMP:20260424T091854
CREATED:20250106T214202Z
LAST-MODIFIED:20250106T214202Z
UID:10000731-1749081600-1750982399@rangeviewhoa.thedev.ca
SUMMARY:Sow Beans Outdoors
DESCRIPTION:Bean seeds can be sown outdoors from June 5th – June 26th\,  sowing seeds outdoors saves space in your home and ensures an end of season harvest. \nOutdoor seeds can be sown in any spring conditions. Always make sure to put a label where you plant them to avoid disturbing the soil or stepping on new sprouts!
URL:https://rangeviewhoa.thedev.ca/event-details-registration/sow-beans-outdoors/
CATEGORIES:Planting Calender
ATTACH;FMTTYPE=image/png:https://rangeviewhoa.thedev.ca/wp-content/uploads/2025/01/Eating-Beans.png
END:VEVENT
BEGIN:VEVENT
DTSTART;TZID=America/Edmonton:20250605T000000
DTEND;TZID=America/Edmonton:20250619T235959
DTSTAMP:20260424T091854
CREATED:20250106T204336Z
LAST-MODIFIED:20250106T204336Z
UID:10000723-1749081600-1750377599@rangeviewhoa.thedev.ca
SUMMARY:Transplanting Zucchini Outdoors
DESCRIPTION:Zucchini are  sensitive to the cold and wind\, it is best to plant them outdoors when the weather is fair.  Between June 5th – June 19th is the optimal time to prevent cold and wind damage. \nAlways go by the weather\, if the weather is poor during this time postpone planting or if the weather is fair before these dates plant early. \nPlants that have been properly hardened off are less susceptible to cold and wind damage. 
URL:https://rangeviewhoa.thedev.ca/event-details-registration/transplanting-zucchini-outdoors/
CATEGORIES:Planting Calender
ATTACH;FMTTYPE=image/png:https://rangeviewhoa.thedev.ca/wp-content/uploads/2025/01/Squash-1.png
END:VEVENT
BEGIN:VEVENT
DTSTART;TZID=America/Edmonton:20250605T000000
DTEND;TZID=America/Edmonton:20250619T235959
DTSTAMP:20260424T091854
CREATED:20250106T185726Z
LAST-MODIFIED:20250106T185726Z
UID:10000693-1749081600-1750377599@rangeviewhoa.thedev.ca
SUMMARY:Transplanting Sage Outdoors
DESCRIPTION:  \nSage is mildly sensitive to the cold and wind\, it is best to plant them outdoors when the weather is fair.  Between June 5th – June 19th is the optimal time to prevent cold and wind damage. \nAlways go by the weather\, if the weather is poor during this time postpone planting or if the weather is fair before these dates plant early. \nPlants that have been properly hardened off are less susceptible to cold and wind damage. 
URL:https://rangeviewhoa.thedev.ca/event-details-registration/transplanting-sage-outdoors/
CATEGORIES:Planting Calender
ATTACH;FMTTYPE=image/png:https://rangeviewhoa.thedev.ca/wp-content/uploads/2025/01/Sage.png
END:VEVENT
BEGIN:VEVENT
DTSTART;TZID=America/Edmonton:20250605T000000
DTEND;TZID=America/Edmonton:20250619T235959
DTSTAMP:20260424T091854
CREATED:20250102T230417Z
LAST-MODIFIED:20250102T230417Z
UID:10000651-1749081600-1750377599@rangeviewhoa.thedev.ca
SUMMARY:Transplanting Parsley Outdoors
DESCRIPTION:Parsley started indoors is mildly sensitive to the cold and wind\, it is best to plant them outdoors when the weather is fair.  Between June 5th – June 19th is the optimal time to prevent cold and wind damage. \nAlways go by the weather\, if the weather is poor during this time postpone planting or if the weather is fair before these dates plant early. \nPlants that have been properly hardened off are less susceptible to cold and wind damage. 
URL:https://rangeviewhoa.thedev.ca/event-details-registration/transplanting-parsley-outdoors/
CATEGORIES:Planting Calender
ATTACH;FMTTYPE=image/png:https://rangeviewhoa.thedev.ca/wp-content/uploads/2024/12/Parsley-Plant.png
END:VEVENT
BEGIN:VEVENT
DTSTART;TZID=America/Edmonton:20250605T000000
DTEND;TZID=America/Edmonton:20250619T235959
DTSTAMP:20260424T091854
CREATED:20250102T230417Z
LAST-MODIFIED:20250102T230417Z
UID:10000650-1749081600-1750377599@rangeviewhoa.thedev.ca
SUMMARY:Transplanting Oregano Outdoors
DESCRIPTION:Celery is mildly sensitive to the cold and wind\, it is best to plant them outdoors when the weather is fair.  Between June 5th – June 19th is the optimal time to prevent cold and wind damage. \nAlways go by the weather\, if the weather is poor during this time postpone planting or if the weather is fair before these dates plant early. \nPlants that have been properly hardened off are less susceptible to cold and wind damage. 
URL:https://rangeviewhoa.thedev.ca/event-details-registration/transplanting-oregano-outdoors/
CATEGORIES:Planting Calender
ATTACH;FMTTYPE=image/png:https://rangeviewhoa.thedev.ca/wp-content/uploads/2024/12/Oregano-Plant.png
END:VEVENT
BEGIN:VEVENT
DTSTART;TZID=America/Edmonton:20250605T000000
DTEND;TZID=America/Edmonton:20250619T235959
DTSTAMP:20260424T091854
CREATED:20250102T230417Z
LAST-MODIFIED:20250102T230417Z
UID:10000653-1749081600-1750377599@rangeviewhoa.thedev.ca
SUMMARY:Transplanting Thyme Outdoors
DESCRIPTION:Celery is mildly sensitive to the cold and wind\, it is best to plant them outdoors when the weather is fair.  Between June 5th – June 19th is the optimal time to prevent cold and wind damage. \nAlways go by the weather\, if the weather is poor during this time postpone planting or if the weather is fair before these dates plant early. \nPlants that have been properly hardened off are less susceptible to cold and wind damage. 
URL:https://rangeviewhoa.thedev.ca/event-details-registration/transplanting-thyme-outdoors/
CATEGORIES:Planting Calender
ATTACH;FMTTYPE=image/png:https://rangeviewhoa.thedev.ca/wp-content/uploads/2024/12/Thyme-Plant.png
END:VEVENT
BEGIN:VEVENT
DTSTART;TZID=America/Edmonton:20250605T000000
DTEND;TZID=America/Edmonton:20250612T235959
DTSTAMP:20260424T091854
CREATED:20250106T185226Z
LAST-MODIFIED:20250106T185226Z
UID:10000689-1749081600-1749772799@rangeviewhoa.thedev.ca
SUMMARY:Transplant Fennel Outdoors
DESCRIPTION:Fennel is mildly sensitive to the cold and wind\, it is best to plant them outdoors when the weather is fair.  Between June 5th – June 12th is the optimal time to prevent cold and wind damage. \nAlways go by the weather\, if the weather is poor during this time postpone planting or if the weather is fair before these dates plant early. \nPlants that have been properly hardened off are less susceptible to cold and wind damage. 
URL:https://rangeviewhoa.thedev.ca/event-details-registration/transplant-fennel-outdoors/
CATEGORIES:Planting Calender
ATTACH;FMTTYPE=image/png:https://rangeviewhoa.thedev.ca/wp-content/uploads/2025/01/Fennel.png
END:VEVENT
BEGIN:VEVENT
DTSTART;TZID=America/Edmonton:20250529T000000
DTEND;TZID=America/Edmonton:20250612T235959
DTSTAMP:20260424T091854
CREATED:20250106T213822Z
LAST-MODIFIED:20250106T213822Z
UID:10000729-1748476800-1749772799@rangeviewhoa.thedev.ca
SUMMARY:Sow Cilantro Outdoors
DESCRIPTION:Cilantro seeds can be sown outdoors from May 29th – June 12th  sowing seeds outdoors saves space in your home and ensures an end of season harvest. \nOutdoor seeds can be sown in any spring conditions. Always make sure to put a label where you plant them to avoid disturbing the soil or stepping on new sprouts!
URL:https://rangeviewhoa.thedev.ca/event-details-registration/sow-cilantro-outdoors/
CATEGORIES:Planting Calender
ATTACH;FMTTYPE=image/png:https://rangeviewhoa.thedev.ca/wp-content/uploads/2025/01/Cilantro.png
END:VEVENT
BEGIN:VEVENT
DTSTART;TZID=America/Edmonton:20250529T000000
DTEND;TZID=America/Edmonton:20250612T235959
DTSTAMP:20260424T091854
CREATED:20250106T201235Z
LAST-MODIFIED:20250106T201235Z
UID:10000706-1748476800-1749772799@rangeviewhoa.thedev.ca
SUMMARY:Sow Fennel Outdoors
DESCRIPTION:Fennel seeds can be sown outdoors from May 29th – June 12th\,  sowing seeds outdoors saves space in your home and ensures an end of season harvest. \nOutdoor seeds can be sown in any spring conditions. Always make sure to put a label where you plant them to avoid disturbing the soil or stepping on new sprouts!
URL:https://rangeviewhoa.thedev.ca/event-details-registration/sow-fennel-outdoors/
CATEGORIES:Planting Calender
ATTACH;FMTTYPE=image/png:https://rangeviewhoa.thedev.ca/wp-content/uploads/2025/01/Fennel.png
END:VEVENT
BEGIN:VEVENT
DTSTART;TZID=America/Edmonton:20250529T000000
DTEND;TZID=America/Edmonton:20250605T235959
DTSTAMP:20260424T091854
CREATED:20250102T230417Z
LAST-MODIFIED:20250102T230417Z
UID:10000654-1748476800-1749167999@rangeviewhoa.thedev.ca
SUMMARY:Sow Celery Outdoors
DESCRIPTION:Celery Seeds can be sown outdoors from May 29th – June 5th\,  sowing seeds outdoors saves space in your home and ensures an end of season harvest. \nOutdoor seeds can be sown in any spring conditions. Always make sure to put a label where you plant them to avoid disturbing the soil or stepping on new sprouts!
URL:https://rangeviewhoa.thedev.ca/event-details-registration/sow-celery-outdoors/
CATEGORIES:Planting Calender
ATTACH;FMTTYPE=image/png:https://rangeviewhoa.thedev.ca/wp-content/uploads/2024/12/Celery-Plant.png
END:VEVENT
BEGIN:VEVENT
DTSTART;TZID=America/Edmonton:20250522T000000
DTEND;TZID=America/Edmonton:20250612T235959
DTSTAMP:20260424T091854
CREATED:20250106T214033Z
LAST-MODIFIED:20250106T214033Z
UID:10000730-1747872000-1749772799@rangeviewhoa.thedev.ca
SUMMARY:Sow Dill Outdoors
DESCRIPTION:Dill seeds can be sown outdoors from May 22nd – June 12th\,  sowing seeds outdoors saves space in your home and ensures an end of season harvest. \nOutdoor seeds can be sown in any spring conditions. Always make sure to put a label where you plant them to avoid disturbing the soil or stepping on new sprouts!
URL:https://rangeviewhoa.thedev.ca/event-details-registration/sow-dill-outdoors/
CATEGORIES:Planting Calender
ATTACH;FMTTYPE=image/png:https://rangeviewhoa.thedev.ca/wp-content/uploads/2025/01/Dill.png
END:VEVENT
BEGIN:VEVENT
DTSTART;TZID=America/Edmonton:20250522T000000
DTEND;TZID=America/Edmonton:20250605T235959
DTSTAMP:20260424T091854
CREATED:20250106T184142Z
LAST-MODIFIED:20250106T184142Z
UID:10000684-1747872000-1749167999@rangeviewhoa.thedev.ca
SUMMARY:Transplant Cauliflower Outdoors
DESCRIPTION:Cauliflower is slightly sensitive to the cold and wind\, it is best to plant them outdoors when the weather is fair.  Between May 22nd – June 5th is the optimal time to prevent cold and wind damage. \nAlways go by the weather\, if the weather is poor during this time postpone planting or if the weather is fair before these dates plant early. \nPlants that have been properly hardened off are less susceptible to cold and wind damage. 
URL:https://rangeviewhoa.thedev.ca/event-details-registration/transplant-cauliflower-outdoors/
CATEGORIES:Planting Calender
ATTACH;FMTTYPE=image/png:https://rangeviewhoa.thedev.ca/wp-content/uploads/2025/01/Cauliflower.png
END:VEVENT
BEGIN:VEVENT
DTSTART;TZID=America/Edmonton:20250522T000000
DTEND;TZID=America/Edmonton:20250529T235959
DTSTAMP:20260424T091854
CREATED:20250106T214634Z
LAST-MODIFIED:20250106T214634Z
UID:10000735-1747872000-1748563199@rangeviewhoa.thedev.ca
SUMMARY:Sow Potatoes Outdoors
DESCRIPTION:Seed potatoes can be sown outdoors from May 22nd – May 29th\,  sowing seeds outdoors saves space in your home and ensures an end of season harvest. \nOutdoor seeds can be sown in any spring conditions. Always make sure to put a label where you plant them to avoid disturbing the soil or stepping on new sprouts!
URL:https://rangeviewhoa.thedev.ca/event-details-registration/sow-potatoes-outdoors/
CATEGORIES:Planting Calender
ATTACH;FMTTYPE=image/png:https://rangeviewhoa.thedev.ca/wp-content/uploads/2025/01/Pea-1.png
END:VEVENT
BEGIN:VEVENT
DTSTART;TZID=America/Edmonton:20250515T000000
DTEND;TZID=America/Edmonton:20250529T235959
DTSTAMP:20260424T091854
CREATED:20250106T190019Z
LAST-MODIFIED:20250106T190019Z
UID:10000695-1747267200-1748563199@rangeviewhoa.thedev.ca
SUMMARY:Transplant Swiss Chard Outdoors
DESCRIPTION:Swiss chard is less sensitive to the cold and wind\, it is best to plant them outdoors when the weather is ok.  Between May 15th – May 29th  is the optimal time to prevent cold and wind damage. \nAlways go by the weather\, if the weather is poor during this time postpone planting or if the weather is fair before these dates plant early. \nPlants that have been properly hardened off are less susceptible to cold and wind damage. 
URL:https://rangeviewhoa.thedev.ca/event-details-registration/transplant-swiss-chard-outdoors/
CATEGORIES:Planting Calender
ATTACH;FMTTYPE=image/png:https://rangeviewhoa.thedev.ca/wp-content/uploads/2025/01/Swiss-Chard.png
END:VEVENT
BEGIN:VEVENT
DTSTART;TZID=America/Edmonton:20250515T000000
DTEND;TZID=America/Edmonton:20250529T235959
DTSTAMP:20260424T091854
CREATED:20250106T185443Z
LAST-MODIFIED:20250106T185443Z
UID:10000691-1747267200-1748563199@rangeviewhoa.thedev.ca
SUMMARY:Transplant Kohlrabi Outdoors
DESCRIPTION:Kohlrabi is less sensitive to the cold and wind\, it is best to plant them outdoors when the weather is fair.  Between May 15th – May 29th is the optimal time to prevent cold and wind damage. \nAlways go by the weather\, if the weather is poor during this time postpone planting or if the weather is fair before these dates plant early. \nPlants that have been properly hardened off are less susceptible to cold and wind damage. 
URL:https://rangeviewhoa.thedev.ca/event-details-registration/transplant-kohlrabi-outdoors/
CATEGORIES:Planting Calender
ATTACH;FMTTYPE=image/png:https://rangeviewhoa.thedev.ca/wp-content/uploads/2025/01/kohlrabi.png
END:VEVENT
BEGIN:VEVENT
DTSTART;TZID=America/Edmonton:20250515T000000
DTEND;TZID=America/Edmonton:20250529T235959
DTSTAMP:20260424T091854
CREATED:20250106T185335Z
LAST-MODIFIED:20250106T185335Z
UID:10000690-1747267200-1748563199@rangeviewhoa.thedev.ca
SUMMARY:Transplant Kale Outdoors
DESCRIPTION:Kale is less sensitive to the cold and wind\, it is best to plant them outdoors when the weather is ok.  Between May 15th – May 29th is the optimal time to prevent cold and wind damage. \nAlways go by the weather\, if the weather is poor during this time postpone planting or if the weather is fair before these dates plant early. \nPlants that have been properly hardened off are less susceptible to cold and wind damage. 
URL:https://rangeviewhoa.thedev.ca/event-details-registration/transplant-kale-outdoors/
CATEGORIES:Planting Calender
ATTACH;FMTTYPE=image/png:https://rangeviewhoa.thedev.ca/wp-content/uploads/2025/01/Kale.png
END:VEVENT
BEGIN:VEVENT
DTSTART;TZID=America/Edmonton:20250515T000000
DTEND;TZID=America/Edmonton:20250529T235959
DTSTAMP:20260424T091854
CREATED:20250106T184650Z
LAST-MODIFIED:20250106T184650Z
UID:10000687-1747267200-1748563199@rangeviewhoa.thedev.ca
SUMMARY:Transplant Collard Greens Outdoors
DESCRIPTION:Collard greens are less sensitive to the cold and wind\, it is best to plant them outdoors when the weather is ok.  Between May 15th – May 29th is the optimal time to prevent cold and wind damage. \nAlways go by the weather\, if the weather is poor during this time postpone planting or if the weather is fair before these dates plant early. \nPlants that have been properly hardened off are less susceptible to cold and wind damage. 
URL:https://rangeviewhoa.thedev.ca/event-details-registration/transplant-collard-greens-outdoors/
CATEGORIES:Planting Calender
ATTACH;FMTTYPE=image/png:https://rangeviewhoa.thedev.ca/wp-content/uploads/2025/01/Collard.png
END:VEVENT
BEGIN:VEVENT
DTSTART;TZID=America/Edmonton:20250515T000000
DTEND;TZID=America/Edmonton:20250529T235959
DTSTAMP:20260424T091854
CREATED:20250106T183943Z
LAST-MODIFIED:20250106T183943Z
UID:10000683-1747267200-1748563199@rangeviewhoa.thedev.ca
SUMMARY:Transplanting Cabbage Outdoors
DESCRIPTION:Cabbage is less sensitive to the cold and wind\, it is best to plant them outdoors when the weather is ok.  Between May 15th – May 29th is the optimal time to prevent cold and wind damage. \nAlways go by the weather\, if the weather is poor during this time postpone planting or if the weather is fair before these dates plant early. \nPlants that have been properly hardened off are less susceptible to cold and wind damage. 
URL:https://rangeviewhoa.thedev.ca/event-details-registration/transplanting-cabbage-outdoors/
CATEGORIES:Planting Calender
ATTACH;FMTTYPE=image/png:https://rangeviewhoa.thedev.ca/wp-content/uploads/2025/01/Cabbage.png
END:VEVENT
BEGIN:VEVENT
DTSTART;TZID=America/Edmonton:20250515T000000
DTEND;TZID=America/Edmonton:20250529T235959
DTSTAMP:20260424T091854
CREATED:20250106T183812Z
LAST-MODIFIED:20250106T183812Z
UID:10000682-1747267200-1748563199@rangeviewhoa.thedev.ca
SUMMARY:Transplant Brussels Sprouts Outdoors
DESCRIPTION:Brussels Sprouts are less sensitive to the cold and wind\, it is best to plant them outdoors when the weather is ok.  Between May 15th – May 29th is the optimal time to prevent cold and wind damage. \nAlways go by the weather\, if the weather is poor during this time postpone planting or if the weather is fair before these dates plant early. \nPlants that have been properly hardened off are less susceptible to cold and wind damage. 
URL:https://rangeviewhoa.thedev.ca/event-details-registration/transplant-brussels-sprouts-outdoors/
CATEGORIES:Planting Calender
ATTACH;FMTTYPE=image/png:https://rangeviewhoa.thedev.ca/wp-content/uploads/2025/01/Brussel-Sprouts.png
END:VEVENT
BEGIN:VEVENT
DTSTART;TZID=America/Edmonton:20250515T000000
DTEND;TZID=America/Edmonton:20250529T235959
DTSTAMP:20260424T091854
CREATED:20250106T183435Z
LAST-MODIFIED:20250106T183623Z
UID:10000681-1747267200-1748563199@rangeviewhoa.thedev.ca
SUMMARY:Transplant Broccoli Outdoors
DESCRIPTION:Broccoli is less sensitive to the cold and wind\, it is best to plant them outdoors when the weather is ok.  Between May 15th – May 29th is the optimal time to prevent cold and wind damage. \nAlways go by the weather\, if the weather is poor during this time postpone planting or if the weather is fair before these dates plant early. \nPlants that have been properly hardened off are less susceptible to cold and wind damage. 
URL:https://rangeviewhoa.thedev.ca/event-details-registration/transplant-broccoli-outdoors/
CATEGORIES:Planting Calender
ATTACH;FMTTYPE=image/png:https://rangeviewhoa.thedev.ca/wp-content/uploads/2025/01/Broccili.png
END:VEVENT
BEGIN:VEVENT
DTSTART;TZID=America/Edmonton:20250508T000000
DTEND;TZID=America/Edmonton:20250529T235959
DTSTAMP:20260424T091854
CREATED:20250106T201821Z
LAST-MODIFIED:20250106T201821Z
UID:10000711-1746662400-1748563199@rangeviewhoa.thedev.ca
SUMMARY:Sow Swiss Chard Outdoors
DESCRIPTION:Swiss Chard seeds can be sown outdoors from May 8th – May 29th\,  sowing seeds outdoors saves space in your home and ensures an end of season harvest. \nOutdoor seeds can be sown in any spring conditions. Always make sure to put a label where you plant them to avoid disturbing the soil or stepping on new sprouts!
URL:https://rangeviewhoa.thedev.ca/event-details-registration/sow-swiss-chard-outdoors/
CATEGORIES:Planting Calender
ATTACH;FMTTYPE=image/png:https://rangeviewhoa.thedev.ca/wp-content/uploads/2025/01/Swiss-Chard.png
END:VEVENT
END:VCALENDAR